BEGIN:VCALENDAR
VERSION:2.0
PRODID:-//Plone.org//NONSGML plone.app.event//EN
X-WR-TIMEZONE:Europe/Madrid
BEGIN:VEVENT
SUMMARY:Ya estoy en casa
DTSTART;TZID=Europe/Madrid;VALUE=DATE-TIME:20120610T220000
DTEND;TZID=Europe/Madrid;VALUE=DATE-TIME:20120610T230000
DTSTAMP;VALUE=DATE-TIME:20260423T135203Z
UID:0212bf306e239a8e94618c0e081bf838
CREATED;VALUE=DATE-TIME:20120610T000000Z
CATEGORIES:Teatre
LOCATION:Auditori Municipal - Via de la Plata s/n
DESCRIPTION:3ª Mostra de Teatre i Música
URL:https://www.badiadelvalles.cat/document.php?id=1432
END:VEVENT
END:VCALENDAR