BEGIN:VCALENDAR
VERSION:2.0
PRODID:-//Plone.org//NONSGML plone.app.event//EN
X-WR-TIMEZONE:Europe/Madrid
BEGIN:VEVENT
SUMMARY:Festa Major
DTSTART;TZID=Europe/Madrid;VALUE=DATE-TIME:20120615T100000
DTEND;TZID=Europe/Madrid;VALUE=DATE-TIME:20120615T110000
DTSTAMP;VALUE=DATE-TIME:20260423T164407Z
UID:0a2676f54435575eb9efdd5bff924fcc
CREATED;VALUE=DATE-TIME:20120615T000000Z
CATEGORIES:Festa
URL:https://www.badiadelvalles.cat/document.php?id=1487
END:VEVENT
END:VCALENDAR