BEGIN:VCALENDAR
VERSION:2.0
PRODID:-//Plone.org//NONSGML plone.app.event//EN
X-WR-TIMEZONE:Europe/Madrid
BEGIN:VEVENT
SUMMARY:Concert Piano: Pau España (AIGMB)
DTSTART;TZID=Europe/Madrid;VALUE=DATE-TIME:20140406T180000
DTEND;TZID=Europe/Madrid;VALUE=DATE-TIME:20140406T190000
DTSTAMP;VALUE=DATE-TIME:20260423T081621Z
UID:f1039014d66da2e40ddc1ed037c4380e
CREATED;VALUE=DATE-TIME:20140406T000000Z
CATEGORIES:Mostra,Música
LOCATION:Auditori Municipal - Via de la Plata s/n
DESCRIPTION:V Mostra de Teatre i Música
URL:https://www.badiadelvalles.cat/document.php?id=2119
END:VEVENT
END:VCALENDAR