BEGIN:VCALENDAR
VERSION:2.0
PRODID:-//Plone.org//NONSGML plone.app.event//EN
X-WR-TIMEZONE:Europe/Madrid
BEGIN:VEVENT
SUMMARY:Celebració del Dia Internacional del Poble Gitano
DTSTART;TZID=Europe/Madrid;VALUE=DATE-TIME:20140406T120000
DTEND;TZID=Europe/Madrid;VALUE=DATE-TIME:20140406T130000
DTSTAMP;VALUE=DATE-TIME:20260423T081324Z
UID:9e64923a743e76f2961cc04afd11d74a
CREATED;VALUE=DATE-TIME:20140406T000000Z
CATEGORIES:Festa
LOCATION:Plaça Major
URL:https://www.badiadelvalles.cat/document.php?id=2131
END:VEVENT
END:VCALENDAR