BEGIN:VCALENDAR
VERSION:2.0
PRODID:-//Plone.org//NONSGML plone.app.event//EN
X-WR-TIMEZONE:Europe/Madrid
BEGIN:VEVENT
SUMMARY:Actuació Castellera
DTSTART;TZID=Europe/Madrid;VALUE=DATE-TIME:20140406T120000
DTEND;TZID=Europe/Madrid;VALUE=DATE-TIME:20140406T130000
DTSTAMP;VALUE=DATE-TIME:20260423T081030Z
UID:e8953fcc317f6d8ded6385517d677a11
CREATED;VALUE=DATE-TIME:20140406T000000Z
CATEGORIES:Mostra,Festa
LOCATION:Parc Joan Oliver
URL:https://www.badiadelvalles.cat/document.php?id=2134
END:VEVENT
END:VCALENDAR