BEGIN:VCALENDAR
VERSION:2.0
PRODID:-//Plone.org//NONSGML plone.app.event//EN
X-WR-TIMEZONE:Europe/Madrid
BEGIN:VEVENT
SUMMARY:Curs d'Introducció a l'urbanisme
DTSTART;TZID=Europe/Madrid;VALUE=DATE-TIME:20170328T090000
DTEND;TZID=Europe/Madrid;VALUE=DATE-TIME:20170328T100000
DTSTAMP;VALUE=DATE-TIME:20260420T102721Z
UID:270795b30fd228ab4fbf6cb5a2dda504
CREATED;VALUE=DATE-TIME:20170328T000000Z
CATEGORIES:Agenda de l'alcaldessa,Agenda de govern
LOCATION:Diputació de Barcelona
URL:https://www.badiadelvalles.cat/document.php?id=4569
END:VEVENT
END:VCALENDAR