BEGIN:VCALENDAR
VERSION:2.0
PRODID:-//Plone.org//NONSGML plone.app.event//EN
X-WR-TIMEZONE:Europe/Madrid
BEGIN:VEVENT
SUMMARY:Mercat del Trasto
DTSTART;TZID=Europe/Madrid;VALUE=DATE-TIME:20170325T090000
DTEND;TZID=Europe/Madrid;VALUE=DATE-TIME:20170325T100000
DTSTAMP;VALUE=DATE-TIME:20260420T073739Z
UID:e5c7aff6d848fd54f9ade2b529401337
CREATED;VALUE=DATE-TIME:20170325T000000Z
LOCATION:Plaça Major
COMMENT:Durada: Tot el matí (fins les 15 h)
URL:https://www.badiadelvalles.cat/document.php?id=4590
END:VEVENT
END:VCALENDAR