BEGIN:VCALENDAR
VERSION:2.0
PRODID:-//Plone.org//NONSGML plone.app.event//EN
X-WR-TIMEZONE:Europe/Madrid
BEGIN:VEVENT
SUMMARY:Junta de Govern Local
DTSTART;TZID=Europe/Madrid;VALUE=DATE-TIME:20170324T130000
DTEND;TZID=Europe/Madrid;VALUE=DATE-TIME:20170324T140000
DTSTAMP;VALUE=DATE-TIME:20260420T072311Z
UID:6a2e6afd7c6e6ee42211ce80276d2b1d
CREATED;VALUE=DATE-TIME:20170324T000000Z
CATEGORIES:Agenda de l'alcaldessa,Agenda de govern
LOCATION:Ajuntament de Badia del Vallès
URL:https://www.badiadelvalles.cat/document.php?id=4600
END:VEVENT
END:VCALENDAR