BEGIN:VCALENDAR
VERSION:2.0
PRODID:-//Plone.org//NONSGML plone.app.event//EN
X-WR-TIMEZONE:Europe/Madrid
BEGIN:VEVENT
SUMMARY:Xerrada amb Santiago Soto, expert en plantes i cultiu ecològic
DTSTART;TZID=Europe/Madrid;VALUE=DATE-TIME:20170323T180000
DTEND;TZID=Europe/Madrid;VALUE=DATE-TIME:20170323T190000
DTSTAMP;VALUE=DATE-TIME:20260420T074331Z
UID:61b56f0c48ee122a6625d6be7ecc2c94
CREATED;VALUE=DATE-TIME:20170323T000000Z
LOCATION:Biblioteca Vicente Aleixandre - Av. Mediterrani, s/n
URL:https://www.badiadelvalles.cat/document.php?id=4610
END:VEVENT
END:VCALENDAR