BEGIN:VCALENDAR
VERSION:2.0
PRODID:-//Plone.org//NONSGML plone.app.event//EN
X-WR-TIMEZONE:Europe/Madrid
BEGIN:VEVENT
SUMMARY:Reunió Grup Municipal Socialista
DTSTART;TZID=Europe/Madrid;VALUE=DATE-TIME:20170323T173000
DTEND;TZID=Europe/Madrid;VALUE=DATE-TIME:20170323T183000
DTSTAMP;VALUE=DATE-TIME:20260420T060703Z
UID:924cba860131d1ae2d7a98c96c6a7f3a
CREATED;VALUE=DATE-TIME:20170323T000000Z
CATEGORIES:Agenda de l'alcaldessa,Agenda de govern
LOCATION:Ajuntament de Badia del Vallès
URL:https://www.badiadelvalles.cat/document.php?id=4630
END:VEVENT
END:VCALENDAR