BEGIN:VCALENDAR
VERSION:2.0
PRODID:-//Plone.org//NONSGML plone.app.event//EN
X-WR-TIMEZONE:Europe/Madrid
BEGIN:VEVENT
SUMMARY:Reunió veïna
DTSTART;TZID=Europe/Madrid;VALUE=DATE-TIME:20170327T110000
DTEND;TZID=Europe/Madrid;VALUE=DATE-TIME:20170327T120000
DTSTAMP;VALUE=DATE-TIME:20260422T101937Z
UID:0f14be50e712327d21df0aae1ce8d4ab
CREATED;VALUE=DATE-TIME:20170327T000000Z
CATEGORIES:Agenda de l'alcaldessa,Agenda de govern
LOCATION:Ajuntament de Badia del Vallès
URL:https://www.badiadelvalles.cat/document.php?id=4645
END:VEVENT
END:VCALENDAR