BEGIN:VCALENDAR
VERSION:2.0
PRODID:-//Plone.org//NONSGML plone.app.event//EN
X-WR-TIMEZONE:Europe/Madrid
BEGIN:VEVENT
SUMMARY:Defensa dels projectes que es votaran al procés de Pressupostos participatius
DTSTART;TZID=Europe/Madrid;VALUE=DATE-TIME:20170328T183000
DTEND;TZID=Europe/Madrid;VALUE=DATE-TIME:20170328T193000
DTSTAMP;VALUE=DATE-TIME:20260420T131247Z
UID:58582fb45355f230f532574b050c4237
CREATED;VALUE=DATE-TIME:20170328T000000Z
CATEGORIES:Agenda de l'alcaldessa,Agenda de govern
LOCATION:Biblioteca de Badia del Vallès
URL:https://www.badiadelvalles.cat/document.php?id=4661
END:VEVENT
END:VCALENDAR