BEGIN:VCALENDAR
VERSION:2.0
PRODID:-//Plone.org//NONSGML plone.app.event//EN
X-WR-TIMEZONE:Europe/Madrid
BEGIN:VEVENT
SUMMARY:Ple Municipal del mes de juliol
DTSTART;TZID=Europe/Madrid;VALUE=DATE-TIME:20180725T183000
DTEND;TZID=Europe/Madrid;VALUE=DATE-TIME:20180725T193000
DTSTAMP;VALUE=DATE-TIME:20260421T141623Z
UID:817740af7b9936b3c5a3cf7796772219
CREATED;VALUE=DATE-TIME:20180725T000000Z
CATEGORIES:Agenda de l'alcaldessa,Agenda de govern
LOCATION:Sala de Plens de l'Ajuntament
URL:https://www.badiadelvalles.cat/document.php?id=5769
END:VEVENT
END:VCALENDAR