BEGIN:VCALENDAR
VERSION:2.0
PRODID:-//Plone.org//NONSGML plone.app.event//EN
X-WR-TIMEZONE:Europe/Madrid
BEGIN:VEVENT
SUMMARY:Ple Municipal del mes de setembre
DTSTART;TZID=Europe/Madrid;VALUE=DATE-TIME:20180926T183000
DTEND;TZID=Europe/Madrid;VALUE=DATE-TIME:20180926T193000
DTSTAMP;VALUE=DATE-TIME:20260422T020155Z
UID:1e3e1546ade2944cf560074e0f4261b0
CREATED;VALUE=DATE-TIME:20180926T000000Z
CATEGORIES:Agenda de l'alcaldessa,Agenda de govern
LOCATION:Sala de Plens de l'Ajuntament
URL:https://www.badiadelvalles.cat/document.php?id=5770
END:VEVENT
END:VCALENDAR