BEGIN:VCALENDAR
VERSION:2.0
PRODID:-//Plone.org//NONSGML plone.app.event//EN
X-WR-TIMEZONE:Europe/Madrid
BEGIN:VEVENT
SUMMARY:Junta de portaveus de juliol
DTSTART;TZID=Europe/Madrid;VALUE=DATE-TIME:20180719T170000
DTEND;TZID=Europe/Madrid;VALUE=DATE-TIME:20180719T180000
DTSTAMP;VALUE=DATE-TIME:20260421T114047Z
UID:395796a255e7fa4a36cbaad6bc6e556a
CREATED;VALUE=DATE-TIME:20180719T000000Z
CATEGORIES:Agenda de l'alcaldessa,Agenda de govern
LOCATION:Ajuntament de Badia del Vallès
URL:https://www.badiadelvalles.cat/document.php?id=6248
END:VEVENT
END:VCALENDAR