BEGIN:VCALENDAR
VERSION:2.0
PRODID:-//Plone.org//NONSGML plone.app.event//EN
X-WR-TIMEZONE:Europe/Madrid
BEGIN:VEVENT
SUMMARY:Junta de portaveus de setembte
DTSTART;TZID=Europe/Madrid;VALUE=DATE-TIME:20180920T170000
DTEND;TZID=Europe/Madrid;VALUE=DATE-TIME:20180920T180000
DTSTAMP;VALUE=DATE-TIME:20260421T235919Z
UID:8b2585183ca514fb97156b893d05139b
CREATED;VALUE=DATE-TIME:20180920T000000Z
CATEGORIES:Agenda de l'alcaldessa,Agenda de govern
LOCATION:Ajuntament de Badia del Vallès
URL:https://www.badiadelvalles.cat/document.php?id=6254
END:VEVENT
END:VCALENDAR