BEGIN:VCALENDAR
VERSION:2.0
PRODID:-//Plone.org//NONSGML plone.app.event//EN
X-WR-TIMEZONE:Europe/Madrid
BEGIN:VEVENT
SUMMARY:Junta de Govern Local
DTSTART;TZID=Europe/Madrid;VALUE=DATE-TIME:20180727T133000
DTEND;TZID=Europe/Madrid;VALUE=DATE-TIME:20180727T143000
DTSTAMP;VALUE=DATE-TIME:20260421T165749Z
UID:42f7c955d5c26f0be53fb922ac1d370a
CREATED;VALUE=DATE-TIME:20180727T000000Z
CATEGORIES:Agenda de l'alcaldessa,Agenda de govern
LOCATION:Ajuntament de Badia del Vallès
URL:https://www.badiadelvalles.cat/document.php?id=6298
END:VEVENT
END:VCALENDAR