BEGIN:VCALENDAR
VERSION:2.0
PRODID:-//Plone.org//NONSGML plone.app.event//EN
X-WR-TIMEZONE:Europe/Madrid
BEGIN:VEVENT
SUMMARY:Junta de Govern Local
DTSTART;TZID=Europe/Madrid;VALUE=DATE-TIME:20180914T133000
DTEND;TZID=Europe/Madrid;VALUE=DATE-TIME:20180914T143000
DTSTAMP;VALUE=DATE-TIME:20260421T183509Z
UID:f1c677b28938eb3a3b78f574e89375e8
CREATED;VALUE=DATE-TIME:20180914T000000Z
CATEGORIES:Agenda de l'alcaldessa,Agenda de govern
LOCATION:Ajuntament de Badia del Vallès
URL:https://www.badiadelvalles.cat/document.php?id=6300
END:VEVENT
END:VCALENDAR