BEGIN:VCALENDAR
VERSION:2.0
PRODID:-//Plone.org//NONSGML plone.app.event//EN
X-WR-TIMEZONE:Europe/Madrid
BEGIN:VEVENT
SUMMARY:24 hores de Bàsket Nou Badia
DTSTART;TZID=Europe/Madrid;VALUE=DATE-TIME:20180722T120000
DTEND;TZID=Europe/Madrid;VALUE=DATE-TIME:20180722T130000
DTSTAMP;VALUE=DATE-TIME:20260421T141558Z
UID:a6f62216de2b705ddcf02567785d4f94
CREATED;VALUE=DATE-TIME:20180722T000000Z
CATEGORIES:Agenda de l'alcaldessa,Agenda de govern
LOCATION:Complex Esportiu
URL:https://www.badiadelvalles.cat/document.php?id=6510
END:VEVENT
END:VCALENDAR