BEGIN:VCALENDAR
VERSION:2.0
PRODID:-//Plone.org//NONSGML plone.app.event//EN
X-WR-TIMEZONE:Europe/Madrid
BEGIN:VEVENT
SUMMARY:Reunió amb Solvia
DTSTART;TZID=Europe/Madrid;VALUE=DATE-TIME:20180726T093000
DTEND;TZID=Europe/Madrid;VALUE=DATE-TIME:20180726T103000
DTSTAMP;VALUE=DATE-TIME:20260421T141507Z
UID:1971e8e375ebc13a06ebf80576f047ff
CREATED;VALUE=DATE-TIME:20180726T000000Z
CATEGORIES:Agenda de l'alcaldessa,Agenda de govern
LOCATION:Ajuntament de Badia del Vallès
URL:https://www.badiadelvalles.cat/document.php?id=6533
END:VEVENT
END:VCALENDAR