BEGIN:VCALENDAR
VERSION:2.0
PRODID:-//Plone.org//NONSGML plone.app.event//EN
X-WR-TIMEZONE:Europe/Madrid
BEGIN:VEVENT
SUMMARY:18è Mercat del Trasto
DTSTART;TZID=Europe/Madrid;VALUE=DATE-TIME:20180915T090000
DTEND;TZID=Europe/Madrid;VALUE=DATE-TIME:20180915T100000
DTSTAMP;VALUE=DATE-TIME:20260421T200550Z
UID:4f118ab5c13c13a808260a569487267b
CREATED;VALUE=DATE-TIME:20180915T000000Z
CATEGORIES:Mostra
LOCATION:Plaça Major
URL:https://www.badiadelvalles.cat/document.php?id=6564
END:VEVENT
END:VCALENDAR