BEGIN:VCALENDAR
VERSION:2.0
PRODID:-//Plone.org//NONSGML plone.app.event//EN
X-WR-TIMEZONE:Europe/Madrid
BEGIN:VEVENT
SUMMARY:Dia de la Mobilitat
DTSTART;TZID=Europe/Madrid;VALUE=DATE-TIME:20180916T100000
DTEND;TZID=Europe/Madrid;VALUE=DATE-TIME:20180916T110000
DTSTAMP;VALUE=DATE-TIME:20260421T210853Z
UID:64a56718aadbf5ed52c973ac452c7226
CREATED;VALUE=DATE-TIME:20180916T000000Z
CATEGORIES:Agenda de l'alcaldessa,Agenda de govern
LOCATION:Parc Joan Oliver, Badia del Vallès
URL:https://www.badiadelvalles.cat/document.php?id=6578
END:VEVENT
END:VCALENDAR