BEGIN:VCALENDAR
VERSION:2.0
PRODID:-//Plone.org//NONSGML plone.app.event//EN
X-WR-TIMEZONE:Europe/Madrid
BEGIN:VEVENT
SUMMARY:Diumenge, activitats per a tota la família a 1a Festa del parc de Joan Oliver
DTSTART;TZID=Europe/Madrid;VALUE=DATE-TIME:20180919T000000
DTEND;TZID=Europe/Madrid;VALUE=DATE-TIME:20180919T010000
DTSTAMP;VALUE=DATE-TIME:20260421T211720Z
UID:adfc4a07dd31e684646e493bbb965b3b
CREATED;VALUE=DATE-TIME:20180919T000000Z
CATEGORIES:Agenda de l'alcaldessa,Agenda de govern
URL:https://www.badiadelvalles.cat/document.php?id=6600
END:VEVENT
END:VCALENDAR