BEGIN:VCALENDAR
VERSION:2.0
PRODID:-//Plone.org//NONSGML plone.app.event//EN
X-WR-TIMEZONE:Europe/Madrid
BEGIN:VEVENT
SUMMARY:Activitats familiar AMB. 1a Festa al Parc
DTSTART;TZID=Europe/Madrid;VALUE=DATE-TIME:20180923T100000
DTEND;TZID=Europe/Madrid;VALUE=DATE-TIME:20180923T110000
DTSTAMP;VALUE=DATE-TIME:20260422T003940Z
UID:3011ae7fc143e43f54a80da278439c33
CREATED;VALUE=DATE-TIME:20180923T000000Z
CATEGORIES:Agenda de l'alcaldessa,Agenda de govern
LOCATION:Parc Joan Oliver, Badia del Vallès
URL:https://www.badiadelvalles.cat/document.php?id=6608
END:VEVENT
END:VCALENDAR