BEGIN:VCALENDAR
VERSION:2.0
PRODID:-//Plone.org//NONSGML plone.app.event//EN
X-WR-TIMEZONE:Europe/Madrid
BEGIN:VEVENT
SUMMARY:Iluminació façana ajuntament i lectura del manifest. Setmana Europea de sensibilització sobre el TDAH
DTSTART;TZID=Europe/Madrid;VALUE=DATE-TIME:20180926T160000
DTEND;TZID=Europe/Madrid;VALUE=DATE-TIME:20180926T170000
DTSTAMP;VALUE=DATE-TIME:20260422T015851Z
UID:36ed3bae12a26a268a832b9cb42dcb17
CREATED;VALUE=DATE-TIME:20180926T000000Z
CATEGORIES:Agenda de l'alcaldessa,Agenda de govern
LOCATION:Badia del Vallès
URL:https://www.badiadelvalles.cat/document.php?id=6626
END:VEVENT
END:VCALENDAR