BEGIN:VCALENDAR
VERSION:2.0
PRODID:-//Plone.org//NONSGML plone.app.event//EN
X-WR-TIMEZONE:Europe/Madrid
BEGIN:VEVENT
SUMMARY:Diputació
DTSTART;TZID=Europe/Madrid;VALUE=DATE-TIME:20191015T000000
DTEND;TZID=Europe/Madrid;VALUE=DATE-TIME:20191015T010000
DTSTAMP;VALUE=DATE-TIME:20260423T180032Z
UID:83ff30530c0a2fd9642d949f9c45c51d
CREATED;VALUE=DATE-TIME:20191015T000000Z
CATEGORIES:Agenda de l'alcaldessa
LOCATION:Diputació
URL:https://www.badiadelvalles.cat/document.php?id=7858
END:VEVENT
END:VCALENDAR