BEGIN:VCALENDAR
VERSION:2.0
PRODID:-//Plone.org//NONSGML plone.app.event//EN
X-WR-TIMEZONE:Europe/Madrid
BEGIN:VEVENT
SUMMARY:Festa de la Gent Gran
DTSTART;TZID=Europe/Madrid;VALUE=DATE-TIME:20191019T000000
DTEND;TZID=Europe/Madrid;VALUE=DATE-TIME:20191019T010000
DTSTAMP;VALUE=DATE-TIME:20260423T205436Z
UID:7a2879eb0efe31e75ea9bfbc0d0b5ccf
CREATED;VALUE=DATE-TIME:20191014T000000Z
LOCATION:Casal d'Avis - Av. de Burgos, s/n
URL:https://www.badiadelvalles.cat/document.php?id=8037
END:VEVENT
END:VCALENDAR