BEGIN:VCALENDAR
VERSION:2.0
PRODID:-//Plone.org//NONSGML plone.app.event//EN
X-WR-TIMEZONE:Europe/Madrid
BEGIN:VEVENT
SUMMARY:Comissió informativa de l'Area de Ciutadania i Drets Civils d'octubre
DTSTART;TZID=Europe/Madrid;VALUE=DATE-TIME:20201020T163000
DTEND;TZID=Europe/Madrid;VALUE=DATE-TIME:20201020T173000
DTSTAMP;VALUE=DATE-TIME:20260419T184926Z
UID:3961fe8646ca357d3a0d85cc66cfee85
CREATED;VALUE=DATE-TIME:20201020T000000Z
CATEGORIES:Agenda de govern
LOCATION:Ajuntament de Badia del Vallès
URL:https://www.badiadelvalles.cat/document.php?id=8275
END:VEVENT
END:VCALENDAR