BEGIN:VCALENDAR
VERSION:2.0
PRODID:-//Plone.org//NONSGML plone.app.event//EN
X-WR-TIMEZONE:Europe/Madrid
BEGIN:VEVENT
SUMMARY:Audició musical AIGMB
DTSTART;TZID=Europe/Madrid;VALUE=DATE-TIME:20191220T180000
DTEND;TZID=Europe/Madrid;VALUE=DATE-TIME:20191220T190000
DTSTAMP;VALUE=DATE-TIME:20260423T181058Z
UID:3fc2aa95c855912e1e6872adbbf1cdb5
CREATED;VALUE=DATE-TIME:20191220T000000Z
CATEGORIES:Música
LOCATION:Auditori Municipal - Via de la Plata s/n
ORGANIZER:AIGMB
COMMENT:Preu: Gratuït
URL:https://www.badiadelvalles.cat/document.php?id=8302
END:VEVENT
END:VCALENDAR