BEGIN:VCALENDAR
VERSION:2.0
PRODID:-//Plone.org//NONSGML plone.app.event//EN
X-WR-TIMEZONE:Europe/Madrid
BEGIN:VEVENT
SUMMARY:Visita a Vilanova i la Geltrú
DTSTART;TZID=Europe/Madrid;VALUE=DATE-TIME:20191220T110000
DTEND;TZID=Europe/Madrid;VALUE=DATE-TIME:20191220T120000
DTSTAMP;VALUE=DATE-TIME:20260423T181506Z
UID:7e5e252be85646525f4c7361b6c7bae7
CREATED;VALUE=DATE-TIME:20191220T000000Z
CATEGORIES:Agenda de l'alcaldessa
LOCATION:Vilanova i la Geltrú
URL:https://www.badiadelvalles.cat/document.php?id=8399
END:VEVENT
END:VCALENDAR