BEGIN:VCALENDAR
VERSION:2.0
PRODID:-//Plone.org//NONSGML plone.app.event//EN
X-WR-TIMEZONE:Europe/Madrid
BEGIN:VEVENT
SUMMARY:Concert AIGMB
DTSTART;TZID=Europe/Madrid;VALUE=DATE-TIME:20191220T180000
DTEND;TZID=Europe/Madrid;VALUE=DATE-TIME:20191220T190000
DTSTAMP;VALUE=DATE-TIME:20260423T181615Z
UID:d5b1a7140ef19f6cc05c4e75eeaef895
CREATED;VALUE=DATE-TIME:20191220T000000Z
CATEGORIES:Agenda de l'alcaldessa
LOCATION:Auditori
URL:https://www.badiadelvalles.cat/document.php?id=8428
END:VEVENT
END:VCALENDAR